BEGIN:VCALENDAR
VERSION:2.0
PRODID:-//ChamberMaster//Event Calendar 2.0//EN
METHOD:PUBLISH
X-PUBLISHED-TTL:P3D
REFRESH-INTERVAL:P3D
CALSCALE:GREGORIAN
BEGIN:VEVENT
DTSTART:20141006T220000Z
DTEND:20141007T000000Z
X-MICROSOFT-CDO-ALLDAYEVENT:FALSE
SUMMARY:GO4IT Hall of Fame Buffet
DESCRIPTION:Join GO4IT at Hall of fame on October 6 for a fundraiser buffet. All profits will be granted to non-profits in Clinton County.
X-ALT-DESC;FMTTYPE=text/html:Join GO4IT at Hall of fame on October 6 for a fundraiser buffet. All profits will be granted to non-profits in Clinton County.
LOCATION:Hall of Fame 902 6th Ave DeWitt\, IA 52742
UID:e.1774.192
SEQUENCE:3
DTSTAMP:20260421T221317Z
URL:https://business.dewittiowa.org/events/details/go4it-hall-of-fame-buffet-10-06-2014-192
END:VEVENT

END:VCALENDAR
