BEGIN:VCALENDAR
VERSION:2.0
PRODID:-//ChamberMaster//Event Calendar 2.0//EN
METHOD:PUBLISH
X-PUBLISHED-TTL:P3D
REFRESH-INTERVAL:P3D
CALSCALE:GREGORIAN
BEGIN:VEVENT
DTSTART;VALUE=DATE:20161216
DTEND;VALUE=DATE:20161217
TRANSP:TRANSPARENT
X-MICROSOFT-CDO-ALLDAYEVENT:TRUE
SUMMARY:Grace Camp Christmas Tree Fundraiser
DESCRIPTION:Grace Camp's Annual Christmas Tree Fundraiser starts the day after Thanksgiving!  \n\n\n\nVisit us out at Grace Camp and pick out one of our pre-cut North Carolina or Wisconsin fraser firs\, fresh wreaths or cut your own Christmas tree!  Then come inside the tree shed for cider and hot chocolate.
X-ALT-DESC;FMTTYPE=text/html:<span style="color:#008000">Grace Camp&#39\;s Annual Christmas Tree Fundraiser starts the day after Thanksgiving!&nbsp\; </span><br />\n<br />\nVisit us out at Grace Camp and pick out one of our pre-cut North Carolina or Wisconsin fraser firs\, fresh wreaths or cut your own Christmas tree!&nbsp\; Then come inside the tree shed for cider and hot chocolate.
LOCATION:Grace Camp is located one mile west of DeWitt on HWY 30\, then left on 260th Ave. 2675 242nd Street DeWitt\, IA Watch for the signs!
UID:e.1774.1722
SEQUENCE:3
DTSTAMP:20260420T043232Z
URL:https://business.dewittiowa.org/events/details/grace-camp-christmas-tree-sales-12-16-2016-1722
END:VEVENT

END:VCALENDAR
