BEGIN:VCALENDAR
VERSION:2.0
PRODID:-//ChamberMaster//Event Calendar 2.0//EN
METHOD:PUBLISH
X-PUBLISHED-TTL:P3D
REFRESH-INTERVAL:P3D
CALSCALE:GREGORIAN
BEGIN:VEVENT
DTSTART:20141012T203000Z
DTEND:20141013T000000Z
X-MICROSOFT-CDO-ALLDAYEVENT:FALSE
SUMMARY:Grace Lutheran Church Octoberfeast
DESCRIPTION:Self-Serve Buffet by Matthiesen's Catering:   Salad Bar\, Sliced Roast Beef\, Chicken Alfredo\, Mashed Potatoes & Gravy\, Corn\, Green Bean Casserole\, Bread Basket\, Desserts by Grace Ladies. Carry-outs available. Entertainment by Jazz Pianist Dave Galster & the Legendary Red Henton\, Mr. Entertainment. Bargain prices on beautiful fall flowers and pumpkins by Andresen Landscaping and Garden Center.
X-ALT-DESC;FMTTYPE=text/html:Self-Serve Buffet by Matthiesen&#39\;s Catering: &nbsp\; Salad Bar\, Sliced Roast Beef\, Chicken Alfredo\, Mashed Potatoes &amp\; Gravy\, Corn\, Green Bean Casserole\, Bread Basket\, Desserts by Grace Ladies. Carry-outs available. Entertainment by Jazz Pianist Dave Galster &amp\; the Legendary Red Henton\, Mr. Entertainment. Bargain prices on beautiful fall flowers and pumpkins by Andresen Landscaping and Garden Center.
LOCATION:Grace Ev. Lutheran Church\, 415 10th St.\, DeWitt\, IA 52742 Proceeds go to Clinton County Missions.
UID:e.1774.153
SEQUENCE:3
DTSTAMP:20260421T203916Z
URL:https://business.dewittiowa.org/events/details/grace-lutheran-church-octoberfeast-10-12-2014-153
END:VEVENT

END:VCALENDAR
