BEGIN:VCALENDAR
VERSION:2.0
PRODID:-//ChamberMaster//Event Calendar 2.0//EN
METHOD:PUBLISH
X-PUBLISHED-TTL:P3D
REFRESH-INTERVAL:P3D
CALSCALE:GREGORIAN
BEGIN:VEVENT
DTSTART:20161119T160000Z
DTEND:20161119T190000Z
X-MICROSOFT-CDO-ALLDAYEVENT:FALSE
SUMMARY:Graceful Harvest Bazaar
DESCRIPTION:Country Store Baked Goods/Cookie Walk Greeting Cards & Napkins 10 am to 1 pm Luncheon 10:30am to 12:30pm
X-ALT-DESC;FMTTYPE=text/html:Country Store Baked Goods/Cookie Walk Greeting Cards &amp\; Napkins 10 am to 1 pm Luncheon 10:30am to 12:30pm
LOCATION:Grace Lutheran Church 415 10th St. DeWitt\, IA
UID:e.1774.1655
SEQUENCE:3
DTSTAMP:20260420T043028Z
URL:https://business.dewittiowa.org/events/details/graceful-harvest-bazaar-11-19-2016-1655
END:VEVENT

END:VCALENDAR
