BEGIN:VCALENDAR
VERSION:2.0
PRODID:-//ChamberMaster//Event Calendar 2.0//EN
METHOD:PUBLISH
X-PUBLISHED-TTL:P3D
REFRESH-INTERVAL:P3D
CALSCALE:GREGORIAN
BEGIN:VEVENT
DTSTART:20170401T220000Z
DTEND:20170402T043000Z
X-MICROSOFT-CDO-ALLDAYEVENT:FALSE
SUMMARY:GRAND OPENING
DESCRIPTION:Brook's Bistro Welcomes - JEF SPRADLEY\n\n\n\nItalian Buffet | 5:30PM-11:30PM\n\nLive Entertainment | 7:00PM-10PM\n\n\n\nEVERYONE WELCOME\n\nHandle Takeover - Lionstone Brewing\n\n\n\nwww.sbccgolf.club\n\n\n\nSponsored by Will Froeschle Edward Jones - 712 6th Ave.\, DeWitt\, IA
X-ALT-DESC;FMTTYPE=text/html:<p>Brook&#39\;s Bistro Welcomes - JEF SPRADLEY<br />\n<br />\nItalian Buffet | 5:30PM-11:30PM<br />\n<span style="background-color:rgb(255\, 255\, 255)\; color:rgb(51\, 51\, 51)\; font-family:sans-serif\,arial\,verdana\,trebuchet ms\; font-size:13px">Live Entertainment | 7:00PM-10PM<br />\n<br />\nEVERYONE WELCOME<br />\nHandle Takeover - Lionstone Brewing<br />\n<br />\nwww.sbccgolf.club<br />\n<br />\nSponsored by Will Froeschle Edward Jones - 712 6th Ave.\, DeWitt\, IA&nbsp\;</span><br />\n&nbsp\;</p>\n
LOCATION:2122 17th Ave.\, DeWItt\, IA
UID:e.1774.1937
SEQUENCE:3
DTSTAMP:20260419T201245Z
URL:https://business.dewittiowa.org/events/details/grand-opening-1937
END:VEVENT

END:VCALENDAR
