BEGIN:VCALENDAR
VERSION:2.0
PRODID:-//ChamberMaster//Event Calendar 2.0//EN
METHOD:PUBLISH
X-PUBLISHED-TTL:P3D
REFRESH-INTERVAL:P3D
CALSCALE:GREGORIAN
BEGIN:VEVENT
DTSTART:20170218T170000Z
DTEND:20170218T200000Z
X-MICROSOFT-CDO-ALLDAYEVENT:FALSE
SUMMARY:Grand Opening for Best Paw Forward & Toby's Spa
DESCRIPTION:Grand Opening of Best Paw Forward and Toby's Spa\, a do-it-yourself dog wash. Drawing for 3 FREE washes. Treats for Pets and Parents
X-ALT-DESC;FMTTYPE=text/html:Grand Opening of Best Paw Forward and Toby&#39\;s Spa\, a do-it-yourself dog wash. Drawing for 3 FREE washes. Treats for Pets and Parents
LOCATION:Best Paw Forward 511 8th Street\, DeWitt
UID:e.1774.1828
SEQUENCE:3
DTSTAMP:20260419T235303Z
URL:https://business.dewittiowa.org/events/details/grand-opening-for-best-paw-forward-toby-s-spa-1828
END:VEVENT

END:VCALENDAR
