BEGIN:VCALENDAR
VERSION:2.0
PRODID:-//ChamberMaster//Event Calendar 2.0//EN
METHOD:PUBLISH
X-PUBLISHED-TTL:P3D
REFRESH-INTERVAL:P3D
CALSCALE:GREGORIAN
BEGIN:VEVENT
DTSTART;VALUE=DATE:20170511
DTEND;VALUE=DATE:20170512
TRANSP:TRANSPARENT
X-MICROSOFT-CDO-ALLDAYEVENT:TRUE
SUMMARY:Great Give Day - May 11
DESCRIPTION:The goal of Great Give Day is to inspire the community to come together for 24 hours to give as much as possible to support the work of local nonprofits. \n\n\n\nVisit http://www.GreatGiveDay.org for more information and to donate!
X-ALT-DESC;FMTTYPE=text/html:<span style="font-family:verdana\;"><span style="font-size:14px\;"><span style="color:#000000\;">The goal of Great Give Day is to inspire the community to come together for 24 hours to give as much as possible to support the work of local nonprofits.&nbsp\;<br />\n<br />\nVisit&nbsp\;</span><a href="http://www.GreatGiveDay.org"><span style="color:#000000\;">http://www.GreatGiveDay.org</span></a><span style="color:#000000\;">&nbsp\;for more information and to donate!</span></span></span>
LOCATION:
UID:e.1774.2982
SEQUENCE:3
DTSTAMP:20260419T182411Z
URL:https://business.dewittiowa.org/events/details/great-give-day-may-11-2982
END:VEVENT

END:VCALENDAR
