BEGIN:VCALENDAR
VERSION:2.0
PRODID:-//ChamberMaster//Event Calendar 2.0//EN
METHOD:PUBLISH
X-PUBLISHED-TTL:P3D
REFRESH-INTERVAL:P3D
CALSCALE:GREGORIAN
BEGIN:VEVENT
DTSTART:20170913T160000Z
DTEND:20170913T180000Z
X-MICROSOFT-CDO-ALLDAYEVENT:FALSE
SUMMARY:Grilling for Charity - First Central State Bank
DESCRIPTION:GRILLING FOR CHARITY - Central DeWitt Ed Foundation\n\nEnjoy Lunch in the First Central State Bank courtyard from 11:00-1:00 on Wednesday\, September 13\, 2017!\n\n\n\nWe will be serving hamburgers\, chips\, cookies\, and water for a cash donation of your choice!\n\n\n\n100% of proceeds to benefit the Central DeWitt Ed Foundation\n\n\n\nDELIVERY AVAILABLE FOR LOCAL BUSINESSES!\n\nDeWitt Businesses\, if you would like us to deliver your lunch to you at work\, please let us know BEFORE 11:00 on Monday\, Sept. 11th.* \n\nCall: 658-3141 OR Email: bschutterle@firstcentralsb.com\n\n\n\n*we will collect your donation at time of delivery
X-ALT-DESC;FMTTYPE=text/html:GRILLING FOR CHARITY - Central DeWitt Ed Foundation<br />\nEnjoy Lunch in the First Central State Bank courtyard from 11:00-1:00 on Wednesday\, September 13\, 2017!<br />\n<br />\nWe will be serving hamburgers\, chips\, cookies\, and water for a cash donation of your choice!<br />\n<br />\n100% of proceeds to benefit the Central DeWitt Ed Foundation<br />\n<br />\nDELIVERY AVAILABLE FOR LOCAL BUSINESSES!<br />\nDeWitt Businesses\, if you would like us to deliver your lunch to you at work\, please let us know BEFORE 11:00 on Monday\, Sept. 11th.*&nbsp\;<br />\nCall: 658-3141 OR Email: bschutterle@firstcentralsb.com<br />\n<br />\n*we will collect your donation at time of delivery&nbsp\;
LOCATION:First Central State Bank - DeWitt\, IA
UID:e.1774.4243
SEQUENCE:3
DTSTAMP:20260419T120951Z
URL:https://business.dewittiowa.org/events/details/grilling-for-charity-first-central-state-bank-4243
END:VEVENT

END:VCALENDAR
