BEGIN:VCALENDAR
VERSION:2.0
PRODID:-//ChamberMaster//Event Calendar 2.0//EN
METHOD:PUBLISH
X-PUBLISHED-TTL:P3D
REFRESH-INTERVAL:P3D
CALSCALE:GREGORIAN
BEGIN:VEVENT
DTSTART;VALUE=DATE:20141003
DTEND;VALUE=DATE:20141004
TRANSP:TRANSPARENT
X-MICROSOFT-CDO-ALLDAYEVENT:TRUE
SUMMARY:Habitat for Humanity Fundraiser at Pizza Hut
DESCRIPTION:The DeWitt Pizza Hut is donating 10% of total sales to Habitat for Humanity of Clinton County. Bring in this flyer or mention you want your purchase counted towards the "Habitat Fundraiser". Please pass this along to anyone you know may be interested. Thank you for your support.
X-ALT-DESC;FMTTYPE=text/html:The DeWitt Pizza Hut is donating 10% of total sales to Habitat for Humanity of Clinton County. Bring in this flyer or mention you want your purchase counted towards the &quot\;Habitat Fundraiser&quot\;. Please pass this along to anyone you know may be interested. Thank you for your support.
LOCATION:Pizza Hut - DeWitt
UID:e.1774.203
SEQUENCE:3
DTSTAMP:20260421T204047Z
URL:https://business.dewittiowa.org/events/details/habitat-for-humanity-fundraiser-at-pizza-hut-10-03-2014-203
END:VEVENT

END:VCALENDAR
