BEGIN:VCALENDAR
VERSION:2.0
PRODID:-//ChamberMaster//Event Calendar 2.0//EN
METHOD:PUBLISH
X-PUBLISHED-TTL:P3D
REFRESH-INTERVAL:P3D
CALSCALE:GREGORIAN
BEGIN:VEVENT
DTSTART:20150205T010000Z
DTEND:20150205T020000Z
X-MICROSOFT-CDO-ALLDAYEVENT:FALSE
SUMMARY:Habitat for Humanity of Clinton County Informational Meeting
DESCRIPTION:Has home ownership always seemed like an impossible dream? Attend the home ownership informational meeting to find out how to to become a Habitat partner family.
X-ALT-DESC;FMTTYPE=text/html:Has home ownership always seemed like an impossible dream? Attend the home ownership informational meeting to find out how to to become a Habitat partner family.
LOCATION:Central Community High School 519 E 11th St DeWitt\, IA Use the north atrium doors
UID:e.1774.259
SEQUENCE:3
DTSTAMP:20260421T154947Z
URL:https://business.dewittiowa.org/events/details/habitat-for-humanity-of-clinton-county-informational-meeting-02-04-2015-259
END:VEVENT

END:VCALENDAR
