BEGIN:VCALENDAR
VERSION:2.0
PRODID:-//ChamberMaster//Event Calendar 2.0//EN
METHOD:PUBLISH
X-PUBLISHED-TTL:P3D
REFRESH-INTERVAL:P3D
CALSCALE:GREGORIAN
BEGIN:VEVENT
DTSTART:20161028T230000Z
DTEND:20161029T020000Z
X-MICROSOFT-CDO-ALLDAYEVENT:FALSE
SUMMARY:Habitat for Humanity Trivia Night
DESCRIPTION:This fundraiser for Habitat features a Trivia Night. Teams of 6 to 8 people pay $10.00 each. Teams answer 10 rounds of 10 questions. Winners are awarded cash prizes. Profits go to Habitat's program of building affordable housing for those in need.
X-ALT-DESC;FMTTYPE=text/html:This fundraiser for Habitat features a Trivia Night. Teams of 6 to 8 people pay $10.00 each. Teams answer 10 rounds of 10 questions. Winners are awarded cash prizes. Profits go to Habitat&#39\;s program of building affordable housing for those in need.
LOCATION:Buzzy's in Welton
UID:e.1774.1619
SEQUENCE:3
DTSTAMP:20260420T060950Z
URL:https://business.dewittiowa.org/events/details/habitat-for-humanity-trivia-night-1619
END:VEVENT

END:VCALENDAR
