BEGIN:VCALENDAR
VERSION:2.0
PRODID:-//ChamberMaster//Event Calendar 2.0//EN
METHOD:PUBLISH
X-PUBLISHED-TTL:P3D
REFRESH-INTERVAL:P3D
CALSCALE:GREGORIAN
BEGIN:VEVENT
DTSTART:20161029T153000Z
DTEND:20161029T170000Z
X-MICROSOFT-CDO-ALLDAYEVENT:FALSE
SUMMARY:Habitat Haunted House Hustle
DESCRIPTION:5K Run/Walk to support Habitat for Humanity of Clinton County details at clintoncountyiowahabitat.com.
X-ALT-DESC;FMTTYPE=text/html:5K Run/Walk to support Habitat for Humanity of Clinton County details at clintoncountyiowahabitat.com.
LOCATION:Erickson Center 1401 11th Ave N Clinton
UID:e.1774.1621
SEQUENCE:3
DTSTAMP:20260420T073841Z
URL:https://business.dewittiowa.org/events/details/habitat-haunted-house-hustle-1621
END:VEVENT

END:VCALENDAR
