BEGIN:VCALENDAR
VERSION:2.0
PRODID:-//ChamberMaster//Event Calendar 2.0//EN
METHOD:PUBLISH
X-PUBLISHED-TTL:P3D
REFRESH-INTERVAL:P3D
CALSCALE:GREGORIAN
BEGIN:VEVENT
DTSTART;VALUE=DATE:20160723
DTEND;VALUE=DATE:20160725
TRANSP:TRANSPARENT
X-MICROSOFT-CDO-ALLDAYEVENT:TRUE
SUMMARY:Harley Parts/Clothing Swap Meet
DESCRIPTION:Harley Swap Meet (motorcycle parts/ clothing/ accessories/ memorabilia) with other vendors.
X-ALT-DESC;FMTTYPE=text/html:Harley Swap Meet (motorcycle parts/ clothing/ accessories/ memorabilia) with other vendors.
LOCATION:2009 Highway 61 DeWitt\,Iowa
UID:e.1774.1504
SEQUENCE:3
DTSTAMP:20260420T105131Z
URL:https://business.dewittiowa.org/events/details/harley-parts-clothing-swap-meet-07-23-2016-1504
END:VEVENT

END:VCALENDAR
