BEGIN:VCALENDAR
VERSION:2.0
PRODID:-//ChamberMaster//Event Calendar 2.0//EN
METHOD:PUBLISH
X-PUBLISHED-TTL:P3D
REFRESH-INTERVAL:P3D
CALSCALE:GREGORIAN
BEGIN:VEVENT
DTSTART;VALUE=DATE:20151001
DTEND;VALUE=DATE:20151002
TRANSP:TRANSPARENT
X-MICROSOFT-CDO-ALLDAYEVENT:TRUE
SUMMARY:Hat and Mitten Drive
DESCRIPTION:Hill Chiropractic will be having a HAT AND MITTEN DRIVE this year for the underprivileged members of our community. Please bring your new or gently used hat and mittens to Hill Chiropractic Office any time throughout the month of October.
X-ALT-DESC;FMTTYPE=text/html:Hill Chiropractic will be having a HAT AND MITTEN DRIVE this year for the underprivileged members of our community. Please bring your new or gently used hat and mittens to Hill Chiropractic Office any time throughout the month of October.
LOCATION:Hill Chiropractic Office 602 12th St DeWitt\, IA 52742
UID:e.1774.1051
SEQUENCE:3
DTSTAMP:20260421T012328Z
URL:https://business.dewittiowa.org/events/details/hat-and-mitten-drive-10-01-2015-1051
END:VEVENT

END:VCALENDAR
