BEGIN:VCALENDAR
VERSION:2.0
PRODID:-//ChamberMaster//Event Calendar 2.0//EN
METHOD:PUBLISH
X-PUBLISHED-TTL:P3D
REFRESH-INTERVAL:P3D
CALSCALE:GREGORIAN
BEGIN:VEVENT
DTSTART;VALUE=DATE:20151205
DTEND;VALUE=DATE:20151206
TRANSP:TRANSPARENT
X-MICROSOFT-CDO-ALLDAYEVENT:TRUE
SUMMARY:Hawkeye Big Ten Championship Game
DESCRIPTION:In the better interest of getting everyone together to bring home a WIN\, Springbrook is opening up for a special Hawkeye Big Ten championship game this coming Saturday\, December 5th at 7:15 pm.\n\n \n\nThe bar will open at 6 pm. \n\n \n\nNo food will be served so bring munchies for the game if you want. \n\n \n\nThis event is open to everyone so pass the word.  Go Hawks!!
X-ALT-DESC;FMTTYPE=text/html:<p><span style="font-size:13.5pt">In the better interest of getting everyone together to bring home a WIN\, Springbrook is opening up for a special Hawkeye Big Ten championship game this coming Saturday\, December 5th at 7:15&nbsp\;pm.</span></p>\n\n<p>&nbsp\;</p>\n\n<p><span style="font-size:13.5pt">The bar will open at 6 pm.&nbsp\;</span></p>\n\n<p>&nbsp\;</p>\n\n<p>No food will be served so bring munchies for the game if you want.&nbsp\;</p>\n\n<p>&nbsp\;</p>\n\n<p>This event is open to everyone so pass the word.&nbsp\; Go Hawks!!</p>\n
LOCATION:Springbrook Country Club 2122 17th Ave. DeWitt\, IA
UID:e.1774.1162
SEQUENCE:3
DTSTAMP:20260420T233159Z
URL:https://business.dewittiowa.org/events/details/hawkeye-big-ten-championship-game-12-05-2015-1162
END:VEVENT

END:VCALENDAR
