BEGIN:VCALENDAR
VERSION:2.0
PRODID:-//ChamberMaster//Event Calendar 2.0//EN
METHOD:PUBLISH
X-PUBLISHED-TTL:P3D
REFRESH-INTERVAL:P3D
CALSCALE:GREGORIAN
BEGIN:VEVENT
DTSTART:20160910T220000Z
DTEND:20160911T030000Z
X-MICROSOFT-CDO-ALLDAYEVENT:FALSE
SUMMARY:Hawkeyes vs Cyclones\, Food\, Beverage\, Fun. Open to the Public!
DESCRIPTION:Hawkeyes vs Cyclones \n\nFood\, Beverage\, Fun. \n\nOpen to the Public!\n\n\n\nA Club Divided\n\nSaturday\, September 10\, 2016\n\nTailgate party at Springbrook Country Club Upper Bar\n\nFeaturing 3 TVs for viewing the Game.\n\nBring your friends and leave the hosting to us.\n\nNo food prep or housework required.\n\nWear your school colors.\n\nTailgate Food specials during the game.  Food Served from 5:00   8:00pm    Pizza\, Wings\, Nachos\n\nKick off 6:30pm
X-ALT-DESC;FMTTYPE=text/html:<p style="text-align: center\;"><span style="font-size:14px">Hawkeyes vs Cyclones </span><br />\nFood\, Beverage\, Fun.&nbsp\;<br />\n<span style="font-size:14px">Open to the Public!</span><br />\n<br />\n<span style="color:red\; font-size:16pt">A Club Divided</span></p>\n\n<p style="text-align: center\;"><span style="color:red\; font-size:16pt">Saturday\, September 10\, 2016</span></p>\n\n<p style="text-align: center\;"><span style="color:red\; font-size:16pt">Tailgate party at Springbrook Country Club Upper Bar</span></p>\n\n<p style="text-align: center\;"><span style="color:red\; font-size:16pt">Featuring 3 TVs for viewing the Game.</span></p>\n\n<p style="text-align: center\;"><span style="color:red\; font-size:16pt">Bring your friends and leave the hosting to us.</span></p>\n\n<p style="text-align: center\;"><span style="color:red\; font-size:16pt">No food prep or housework required.</span></p>\n\n<p style="text-align: center\;"><span style="color:red\; font-size:16pt">Wear your school colors.</span></p>\n\n<p style="text-align: center\;"><span style="color:red\; font-size:16pt">Tailgate Food specials during the game.&nbsp\; </span><u><span style="font-size:14pt">Food Served from 5:00 &ndash\; 8:00pm</span></u><span style="font-size:14pt"> &ndash\;</span>&nbsp\; <span style="color:red\; font-size:16pt">Pizza\, Wings\, Nachos</span></p>\n\n<p style="text-align: center\;"><span style="color:red\; font-size:16pt">Kick off 6:30pm</span></p>\n
LOCATION:Springbrook Country Club 2122 17th Ave. DeWitt
UID:e.1774.1586
SEQUENCE:3
DTSTAMP:20260420T074058Z
URL:https://business.dewittiowa.org/events/details/hawkeyes-vs-cyclones-food-beverage-fun-open-to-the-public-1586
END:VEVENT

END:VCALENDAR
