BEGIN:VCALENDAR
VERSION:2.0
PRODID:-//ChamberMaster//Event Calendar 2.0//EN
METHOD:PUBLISH
X-PUBLISHED-TTL:P3D
REFRESH-INTERVAL:P3D
CALSCALE:GREGORIAN
BEGIN:VEVENT
DTSTART:20141001T170000Z
DTEND:20141001T180000Z
X-MICROSOFT-CDO-ALLDAYEVENT:FALSE
SUMMARY:Health Care Open Forum - Lunch and Learn
DESCRIPTION:Confused about health care? Come to an open forum moderated by Gaylon Heetland\, CFP to get your questions answered. Lunch is provided so please RSVP. Space is limited.
X-ALT-DESC;FMTTYPE=text/html:Confused about health care? Come to an open forum moderated by Gaylon Heetland\, CFP to get your questions answered. Lunch is provided so please RSVP. Space is limited.
LOCATION:Thrivent Financial office 908 6th Ave. DeWitt
UID:e.1774.196
SEQUENCE:3
DTSTAMP:20260421T220942Z
URL:https://business.dewittiowa.org/events/details/health-care-open-forum-lunch-and-learn-10-01-2014-196
END:VEVENT

END:VCALENDAR
