BEGIN:VCALENDAR
VERSION:2.0
PRODID:-//ChamberMaster//Event Calendar 2.0//EN
METHOD:PUBLISH
X-PUBLISHED-TTL:P3D
REFRESH-INTERVAL:P3D
CALSCALE:GREGORIAN
BEGIN:VEVENT
DTSTART:20160923T170000Z
DTEND:20160923T180000Z
X-MICROSOFT-CDO-ALLDAYEVENT:FALSE
SUMMARY:Heart to Heart Lunch and Learn
DESCRIPTION:Caring for aging parents can have a significant impact on your family relationships and personal finances. Join us for "Heart to Heart: As Your Parents Age" to get tips and tools to have healthy conversations so you can provide support when needed.
X-ALT-DESC;FMTTYPE=text/html:Caring for aging parents can have a significant impact on your family relationships and personal finances. Join us for &quot\;Heart to Heart: As Your Parents Age&quot\; to get tips and tools to have healthy conversations so you can provide support when needed.
LOCATION:Thrivent Financial office 908 6th Ave. DeWitt\, IA
UID:e.1774.1537
SEQUENCE:3
DTSTAMP:20260420T073918Z
URL:https://business.dewittiowa.org/events/details/heart-to-heart-lunch-and-learn-1537
END:VEVENT

END:VCALENDAR
