BEGIN:VCALENDAR
VERSION:2.0
PRODID:-//ChamberMaster//Event Calendar 2.0//EN
METHOD:PUBLISH
X-PUBLISHED-TTL:P3D
REFRESH-INTERVAL:P3D
CALSCALE:GREGORIAN
BEGIN:VEVENT
DTSTART:20170511T163000Z
DTEND:20170511T200000Z
X-MICROSOFT-CDO-ALLDAYEVENT:FALSE
SUMMARY:Hidden in Plain Sight Trailer
DESCRIPTION:The "Hidden in Plain Sight" program offers adults an insight into what youth may be hiding in their rooms. This experimental learning opportunity focuses on alcohol and tobacco use to current trends in the abuse of other drugs such as cannabis\, synthetic and "designer" drugs\, opiates\, cocaine\, amphetamine-type stimulants\, hallucinogens and prescription drugs. Participants will also learn about different types of paraphernalia available for the use\, processing and concealment of illicit drugs. During this program geared for parents\, guardians and other concerned adults\, participants are given a pre-determined amount of time to inspect a mock-up of a typical teenager's bedroom. During the inspection\, attendees are asked to list any items they believe to be drug related. Following the inspection\, a presenter discloses the different articles and their significance. This is for adults only.
X-ALT-DESC;FMTTYPE=text/html:The &ldquo\;Hidden in Plain Sight&rdquo\; program offers adults an insight into what youth may be hiding in their rooms. This experimental learning opportunity focuses on alcohol and tobacco use to current trends in the abuse of other drugs such as cannabis\, synthetic and &ldquo\;designer&rdquo\; drugs\, opiates\, cocaine\, amphetamine-type stimulants\, hallucinogens and prescription drugs. Participants will also learn about different types of paraphernalia available for the use\, processing and concealment of illicit drugs. During this program geared for parents\, guardians and other concerned adults\, participants are given a pre-determined amount of time to inspect a mock-up of a typical teenager&rsquo\;s bedroom. During the inspection\, attendees are asked to list any items they believe to be drug related. Following the inspection\, a presenter discloses the different articles and their significance. This is for adults only.
LOCATION:Black Cat Blades 224 Industrial Street DeWitt\, IA 52742
UID:e.1774.2991
SEQUENCE:3
DTSTAMP:20260419T182236Z
URL:https://business.dewittiowa.org/events/details/hidden-in-plain-sight-trailer-2991
END:VEVENT

END:VCALENDAR
