BEGIN:VCALENDAR
VERSION:2.0
PRODID:-//ChamberMaster//Event Calendar 2.0//EN
METHOD:PUBLISH
X-PUBLISHED-TTL:P3D
REFRESH-INTERVAL:P3D
CALSCALE:GREGORIAN
BEGIN:VEVENT
DTSTART:20151114T010000Z
DTEND:20151114T031500Z
X-MICROSOFT-CDO-ALLDAYEVENT:FALSE
SUMMARY:High School Musical "Once Upon a Mattress"
DESCRIPTION:High school students are performing Once Upon a Mattress as well as a lip sync battle.
X-ALT-DESC;FMTTYPE=text/html:High school students are performing Once Upon a Mattress as well as a lip sync battle.
LOCATION:Central Performing Arts Center in the high school
UID:e.1774.1094
SEQUENCE:3
DTSTAMP:20260420T233230Z
URL:https://business.dewittiowa.org/events/details/high-school-musical-once-upon-a-mattress-11-13-2015-1094
END:VEVENT

END:VCALENDAR
