BEGIN:VCALENDAR
VERSION:2.0
PRODID:-//ChamberMaster//Event Calendar 2.0//EN
METHOD:PUBLISH
X-PUBLISHED-TTL:P3D
REFRESH-INTERVAL:P3D
CALSCALE:GREGORIAN
BEGIN:VEVENT
DTSTART;VALUE=DATE:20160409
DTEND;VALUE=DATE:20160410
TRANSP:TRANSPARENT
X-MICROSOFT-CDO-ALLDAYEVENT:TRUE
SUMMARY:High School Spring Play
DESCRIPTION:53 high school students will be performing in the show "Just Another High School Play."
X-ALT-DESC;FMTTYPE=text/html:53 high school students will be performing in the show &quot\;Just Another High School Play.&quot\;
LOCATION:At the CPAC (or CDPAC)/high school
UID:e.1774.1271
SEQUENCE:3
DTSTAMP:20260420T152335Z
URL:https://business.dewittiowa.org/events/details/high-school-spring-play-04-09-2016-1271
END:VEVENT

END:VCALENDAR
