BEGIN:VCALENDAR
VERSION:2.0
PRODID:-//ChamberMaster//Event Calendar 2.0//EN
METHOD:PUBLISH
X-PUBLISHED-TTL:P3D
REFRESH-INTERVAL:P3D
CALSCALE:GREGORIAN
BEGIN:VEVENT
DTSTART:20161016T160000Z
DTEND:20161016T210000Z
X-MICROSOFT-CDO-ALLDAYEVENT:FALSE
SUMMARY:Historic Buildings Tour
DESCRIPTION:Tour of three historic buildings in Clinton County.  This self guided tour features historic buildings: Smithtown Church\, Lost Nation\; Grand Mound Historic Fire Station/Town Hall\, Grand Mound\; and Delmar Calaboose\, Delmar.
X-ALT-DESC;FMTTYPE=text/html:<span style="font-size:14px\;"><span style="font-family:arial\;">Tour of three historic buildings in Clinton County. &nbsp\;This self guided tour features historic buildings:&nbsp\;<span style="color: rgb(0\, 0\, 0)\;">Smithtown Church\,&nbsp\;Lost Nation\;&nbsp\;Grand Mound Historic Fire Station/Town Hall\,&nbsp\;</span>Grand Mound\; and&nbsp\;<span style="color: rgb(0\, 0\, 0)\;">Delmar Calaboose\, Delmar.</span></span></span>
LOCATION:Smithtown Church 1223 125th St. Lost Nation\, IA Grand Mound Historic Fire Station/Town Hall 611 Clinton St. Grand Mound\, IA Delmar Calaboose Next to US Post Office 604 Vane St Delmar\, IA
UID:e.1774.1649
SEQUENCE:3
DTSTAMP:20260420T073841Z
URL:https://business.dewittiowa.org/events/details/historic-buildings-tour-1649
END:VEVENT

END:VCALENDAR
