BEGIN:VCALENDAR
VERSION:2.0
PRODID:-//ChamberMaster//Event Calendar 2.0//EN
METHOD:PUBLISH
X-PUBLISHED-TTL:P3D
REFRESH-INTERVAL:P3D
CALSCALE:GREGORIAN
BEGIN:VEVENT
DTSTART:20141206T140000Z
DTEND:20141207T020000Z
X-MICROSOFT-CDO-ALLDAYEVENT:FALSE
SUMMARY:Holiday Craft & Vendor Show
DESCRIPTION:Indoor Craft & Vendor Show Many different vendors and unique crafts just in time for the holidays! Lots of gift ideas! Cash and carry OR special orders.
X-ALT-DESC;FMTTYPE=text/html:Indoor Craft &amp\; Vendor Show Many different vendors and unique crafts just in time for the holidays! Lots of gift ideas! Cash and carry OR special orders.
LOCATION:714 6th Avenue DeWitt Old True Value Building
UID:e.1774.237
SEQUENCE:3
DTSTAMP:20260421T172133Z
URL:https://business.dewittiowa.org/events/details/holiday-craft-vendor-show-12-06-2014-237
END:VEVENT

END:VCALENDAR
