BEGIN:VCALENDAR
VERSION:2.0
PRODID:-//ChamberMaster//Event Calendar 2.0//EN
METHOD:PUBLISH
X-PUBLISHED-TTL:P3D
REFRESH-INTERVAL:P3D
CALSCALE:GREGORIAN
BEGIN:VEVENT
DTSTART:20161108T140000Z
DTEND:20161108T230000Z
X-MICROSOFT-CDO-ALLDAYEVENT:FALSE
SUMMARY:Holiday Food Box and Gift Sign Up
DESCRIPTION:Must reside in Central DeWitt Community School District.\n\nPlease bring photo ID\, proof of residence\, and proof of income if you are not already a client with the Referral Center.
X-ALT-DESC;FMTTYPE=text/html:Must reside in Central DeWitt Community School District.<br />\nPlease bring photo ID\, proof of residence\, and proof of income if you are not already a client with the Referral Center.<br />\n&nbsp\;
LOCATION:The Referral Center 615 8th St. DeWitt\, IA
UID:e.1774.1698
SEQUENCE:3
DTSTAMP:20260420T043515Z
URL:https://business.dewittiowa.org/events/details/holiday-food-box-and-gift-sign-up-1698
END:VEVENT

END:VCALENDAR
