BEGIN:VCALENDAR
VERSION:2.0
PRODID:-//ChamberMaster//Event Calendar 2.0//EN
METHOD:PUBLISH
X-PUBLISHED-TTL:P3D
REFRESH-INTERVAL:P3D
CALSCALE:GREGORIAN
BEGIN:VEVENT
DTSTART:20151025T150000Z
DTEND:20151025T200000Z
X-MICROSOFT-CDO-ALLDAYEVENT:FALSE
SUMMARY:Holiday Helpers Craft Show
DESCRIPTION:Come and start your holiday shopping here with a variety of beautiful\, handcrafted items from local vendors! Lunch available too!
X-ALT-DESC;FMTTYPE=text/html:Come and start your holiday shopping here with a variety of beautiful\, handcrafted items from local vendors! Lunch available too!
LOCATION:4H Auditorium\, 4H Grounds DeWitt
UID:e.1774.1084
SEQUENCE:3
DTSTAMP:20260421T012620Z
URL:https://business.dewittiowa.org/events/details/holiday-helpers-craft-show-10-25-2015-1084
END:VEVENT

END:VCALENDAR
