BEGIN:VCALENDAR
VERSION:2.0
PRODID:-//ChamberMaster//Event Calendar 2.0//EN
METHOD:PUBLISH
X-PUBLISHED-TTL:P3D
REFRESH-INTERVAL:P3D
CALSCALE:GREGORIAN
BEGIN:VEVENT
DTSTART:20170924T150000Z
DTEND:20170924T200000Z
X-MICROSOFT-CDO-ALLDAYEVENT:FALSE
SUMMARY:Holiday Helpers Fall Festival Craft Show
DESCRIPTION:Fall Festival Craft Show will be featuring local vendors who will be selling holiday items that are all handmade. Over 20 vendors will be there with a variety of items. Lunch will also be available from the Elvira Zion Lutheran Church Nightengals.
X-ALT-DESC;FMTTYPE=text/html:Fall Festival Craft Show will be featuring local vendors who will be selling holiday items that are all handmade. Over 20 vendors will be there with a variety of items. Lunch will also be available from the Elvira Zion Lutheran Church Nightengals.
LOCATION:DeWitt Community Center 512 10th Street
UID:e.1774.5292
SEQUENCE:3
DTSTAMP:20260419T121244Z
URL:https://business.dewittiowa.org/events/details/holiday-helpers-fall-festival-craft-show-5292
END:VEVENT

END:VCALENDAR
