BEGIN:VCALENDAR
VERSION:2.0
PRODID:-//ChamberMaster//Event Calendar 2.0//EN
METHOD:PUBLISH
X-PUBLISHED-TTL:P3D
REFRESH-INTERVAL:P3D
CALSCALE:GREGORIAN
BEGIN:VEVENT
DTSTART:20141120T160000Z
DTEND:20141122T230000Z
X-MICROSOFT-CDO-ALLDAYEVENT:FALSE
SUMMARY:Holiday Open House
DESCRIPTION:Join us for "Holiday Open House 2014" at THE CROSSROADS Inspired Living Thursday-Saturday\, Nov. 20-22.
X-ALT-DESC;FMTTYPE=text/html:Join us for &quot\;Holiday Open House 2014&quot\; at THE CROSSROADS Inspired Living Thursday-Saturday\, Nov. 20-22.
LOCATION:THE CROSSROADS Inspired Living 602 10th Street DeWitt\, IA
UID:e.1774.236
SEQUENCE:3
DTSTAMP:20260421T190122Z
URL:https://business.dewittiowa.org/events/details/holiday-open-house-11-20-2014-236
END:VEVENT

END:VCALENDAR
