BEGIN:VCALENDAR
VERSION:2.0
PRODID:-//ChamberMaster//Event Calendar 2.0//EN
METHOD:PUBLISH
X-PUBLISHED-TTL:P3D
REFRESH-INTERVAL:P3D
CALSCALE:GREGORIAN
BEGIN:VEVENT
DTSTART:20160929T230000Z
DTEND:20160930T000000Z
X-MICROSOFT-CDO-ALLDAYEVENT:FALSE
SUMMARY:Homecoming Parade
DESCRIPTION:2016 Homecoming Parade\n\nWipe Out Wahlert!\n\n\n\nSponsored by Central DeWitt High School's Student Council\n\n\n\nIt will be lead by the Central DeWitt Marching Band\, featuring all fall sports teams and the homecoming court. \n\n\n\nThis year the court members are:\n\n\n\nFreshman\n\nGirls\n\nJasmine Carter\n\nCarly Small\n\n\n\nBoys\n\nEthan McCaulley\n\nNathan Bieber\n\n\n\n\n\nSophomore\n\nGirls\n\nBrea Baxter\n\nRachel Green\n\n\n\nBoys\n\nColby Ridgley\n\nEaston Necker\n\n\n\n\n\nJunior\n\nGirls\n\nEmmalynn Rossmiller\n\nMaddie Johnson\n\n\n\nBoys\n\nCole Westphal\n\nCole Cahill\n\n\n\n\n\nSenior\n\nGirls\n\nEmily Cornillius\n\nKali Roling\n\nMegan Johnson\n\nLauren Jorge\n\n\n\nBoys\n\nLucas Hughes\n\nAustin Weiss\n\nColin Ridgley\n\nJoel Kirby
X-ALT-DESC;FMTTYPE=text/html:2016 Homecoming Parade<br />\nWipe Out Wahlert!<br />\n<br />\nSponsored by Central DeWitt High School&#39\;s Student Council<br />\n<br />\nIt will be lead by the Central DeWitt Marching Band\, featuring all fall sports teams and the homecoming court.&nbsp\;<br />\n<br />\nThis year the court members are:<br />\n<br />\n<strong><u>Freshman</u><br />\nGirls</strong><br />\nJasmine Carter<br />\nCarly Small<br />\n<br />\n<strong>Boys</strong><br />\nEthan McCaulley<br />\nNathan Bieber<br />\n<br />\n<br />\n<strong><u>Sophomore</u><br />\nGirls</strong><br />\nBrea Baxter<br />\nRachel Green<br />\n<br />\n<strong>Boys</strong><br />\nColby Ridgley<br />\nEaston Necker<br />\n<br />\n<br />\n<strong><u>Junior</u><br />\nGirls</strong><br />\nEmmalynn Rossmiller<br />\nMaddie Johnson<br />\n<br />\n<strong>Boys</strong><br />\nCole Westphal<br />\nCole Cahill<br />\n<br />\n<br />\n<strong><u>Senior</u><br />\nGirls</strong><br />\nEmily Cornillius<br />\nKali Roling<br />\nMegan Johnson<br />\nLauren Jorge<br />\n<br />\n<strong>Boys</strong><br />\nLucas Hughes<br />\nAustin Weiss<br />\nColin Ridgley<br />\nJoel Kirby<br />\n&nbsp\;
LOCATION:The parade will line up at 4th Avenue\, proceed west on 10th Street to town\, turn left onto 6th Ave.\, and then back to school going east on 8th Street.
UID:e.1774.1606
SEQUENCE:3
DTSTAMP:20260420T073619Z
URL:https://business.dewittiowa.org/events/details/homecoming-parade-1606
END:VEVENT

END:VCALENDAR
