BEGIN:VCALENDAR
VERSION:2.0
PRODID:-//ChamberMaster//Event Calendar 2.0//EN
METHOD:PUBLISH
X-PUBLISHED-TTL:P3D
REFRESH-INTERVAL:P3D
CALSCALE:GREGORIAN
BEGIN:VEVENT
DTSTART:20160929T220000Z
DTEND:20160930T000000Z
X-MICROSOFT-CDO-ALLDAYEVENT:FALSE
SUMMARY:Homecoming Tailgating Dinner
DESCRIPTION:Homecoming Tailgating Dinner - Nite Lions cooking pork chops & hot dogs before & after the parade at Lincoln Park. Desserts by Whisk Away. Proceeds going to Central DeWitt Educational Foundation.
X-ALT-DESC;FMTTYPE=text/html:Homecoming Tailgating Dinner - Nite Lions cooking pork chops &amp\; hot dogs before &amp\; after the parade at Lincoln Park. Desserts by Whisk Away.&nbsp\;Proceeds going to Central DeWitt Educational Foundation.
LOCATION:Lincoln Park
UID:e.1774.1595
SEQUENCE:3
DTSTAMP:20260420T073542Z
URL:https://business.dewittiowa.org/events/details/homecoming-tailgating-dinner-1595
END:VEVENT

END:VCALENDAR
