BEGIN:VCALENDAR
VERSION:2.0
PRODID:-//ChamberMaster//Event Calendar 2.0//EN
METHOD:PUBLISH
X-PUBLISHED-TTL:P3D
REFRESH-INTERVAL:P3D
CALSCALE:GREGORIAN
BEGIN:VEVENT
DTSTART:20150509T150000Z
DTEND:20150509T200000Z
X-MICROSOFT-CDO-ALLDAYEVENT:FALSE
SUMMARY:Homeowners Financial Grand Opening/Block Party
DESCRIPTION:This is the Grand Opening Party with events for children and adults.
X-ALT-DESC;FMTTYPE=text/html:This is the Grand Opening Party with events for children and adults.
LOCATION:Homeowners Financial NEW DeWitt office. 520 8th St\, DeWitt\, IA 52742
UID:e.1774.320
SEQUENCE:3
DTSTAMP:20260421T094750Z
URL:https://business.dewittiowa.org/events/details/homeowners-financial-grand-opening-block-party-05-09-2015-320
END:VEVENT

END:VCALENDAR
