BEGIN:VCALENDAR
VERSION:2.0
PRODID:-//ChamberMaster//Event Calendar 2.0//EN
METHOD:PUBLISH
X-PUBLISHED-TTL:P3D
REFRESH-INTERVAL:P3D
CALSCALE:GREGORIAN
BEGIN:VEVENT
DTSTART:20150415T233000Z
DTEND:20150416T013000Z
X-MICROSOFT-CDO-ALLDAYEVENT:FALSE
SUMMARY:Hospital Auxiliary Membership Drive..."Discover the Hospital Auxiliary"
DESCRIPTION:Meet current auxiliary members\, enjoy refreshments\, and learn about the hospital auxiliary!  We are hoping to increase our membership base.
X-ALT-DESC;FMTTYPE=text/html:Meet current auxiliary members\, enjoy refreshments\, and learn about the hospital auxiliary!&nbsp\; We are hoping to increase our membership base.
LOCATION:Genesis Health Group Clinic Basement (lower level)\, 1008 11th Street\, DeWitt
UID:e.1774.349
SEQUENCE:3
DTSTAMP:20260421T111419Z
URL:https://business.dewittiowa.org/events/details/hospital-auxiliary-membership-drive-discover-the-hospital-auxiliary-04-15-2015-349
END:VEVENT

END:VCALENDAR
