BEGIN:VCALENDAR
VERSION:2.0
PRODID:-//ChamberMaster//Event Calendar 2.0//EN
METHOD:PUBLISH
X-PUBLISHED-TTL:P3D
REFRESH-INTERVAL:P3D
CALSCALE:GREGORIAN
BEGIN:VEVENT
DTSTART;VALUE=DATE:20140520
DTEND;VALUE=DATE:20140521
TRANSP:TRANSPARENT
X-MICROSOFT-CDO-ALLDAYEVENT:TRUE
SUMMARY:"How Does LeClaire Promote LeClaire?" Presentation
DESCRIPTION:The DCDC invites you to an interactive presentation by Donna Walley\, owner of Aunt Hattie's\, as she shares the history of how LeClaire businesses and organizations formed a cohesive\, community-wide marketing alliance.\n\nLearn the who's\, what's\, when's and why's of their initiative and how it positively changed the way businesses work together to promote LeClaire as a whole.\n\nWhat would it look like if DeWitt businesses and community partners pooled their resources to develop a community-wide marketing partnership?\n\nBring your friends and join us for hot coffee and a lively discussion to find out!!
X-ALT-DESC;FMTTYPE=text/html:The DCDC invites you to an interactive presentation by Donna Walley\, owner of Aunt Hattie&rsquo\;s\, as she shares the history of how LeClaire businesses and organizations formed a cohesive\, community-wide marketing alliance.<br />\nLearn the who&rsquo\;s\, what&rsquo\;s\, when&rsquo\;s and why&rsquo\;s of their initiative and how it positively changed the way businesses work together to promote LeClaire as a whole.<br />\nWhat would it look like if DeWitt businesses and community partners pooled their resources to develop a community-wide marketing partnership?<br />\nBring your friends and join us for hot coffee and a lively discussion to find out!!<br />\n<br />\n&nbsp\;
LOCATION:DeWitt Community Center\, Small Room 512 10th St. DeWitt\, IA
UID:e.1774.42
SEQUENCE:3
DTSTAMP:20260422T055253Z
URL:https://business.dewittiowa.org/events/details/how-does-leclaire-promote-leclaire-presentation-05-20-2014-42
END:VEVENT

END:VCALENDAR
