BEGIN:VCALENDAR
VERSION:2.0
PRODID:-//ChamberMaster//Event Calendar 2.0//EN
METHOD:PUBLISH
X-PUBLISHED-TTL:P3D
REFRESH-INTERVAL:P3D
CALSCALE:GREGORIAN
BEGIN:VEVENT
DTSTART:20170730T000000Z
DTEND:20170730T020000Z
X-MICROSOFT-CDO-ALLDAYEVENT:FALSE
SUMMARY:How To Succeed In Business Without Really Trying
DESCRIPTION:DeWitt's community theater group\, On The Edge Productions\, presents the Tony Award-winning musical How To Succeed In Business Without Really Trying!\n\n \n\nHow to Succeed in Business Without Really Trying is a musical by Frank Loessener and book by Abe Burrows\, Jack Weinstock\, and Willie Gilbert\, based on Shepherd Mead's 1952 book How To Succeed In Business Without Really Trying. The story concerns young\, ambitious J. Pierrepont Finch\, and with the help of the book How to Succeed in Business Without Really Trying\, rises from window washer to chairman of the board of the World Wide Wicket Company.\n\nThe musical\, starring Robert Morse and Rudy Vallee\, opened on Broadway in October 1961\, running for 1\,417 performances. The show won seven Tony Awards\, the New York Drama Critics Circle Award\, and the 1962 Pulitzer Prize for Drama\n\nIn 1967\, a film based on the musical was released\, with Morse and Vallee recreating their stage roles.\n\nA 1995 revival featured Matthew Broderick and Megan Mullally ran for 548 performances. In March of 2011\, A 50th   anniversary Broadway revival featured Daniel Radcliffe and John Larroquette ran for 473 performances.
X-ALT-DESC;FMTTYPE=text/html:<p><span style="font-size:12px"><span style="font-family:arial\,helvetica\,sans-serif"><strong><span style="font-size:14px">DeWitt&#39\;s community theater group\, On The Edge Productions\, presents the Tony Award-winning musical </span></strong><em><strong><span style="font-size:14px">How To Succeed In Business Without Really Trying!</span></strong><br />\n&nbsp\;</em><br />\n<a href="https://www.cd-pac.org/production/succeed-business-without-really-trying/"><strong><em><span style="color:#222222">How to Succeed in Business Without Really Trying</span></em></strong>&nbsp\;</a><span style="color:#222222">is a&nbsp\;musical by&nbsp\;Frank Loessener and book by Abe Burrows\, Jack Weinstock\, and Willie Gilbert\, based on Shepherd Mead&rsquo\;s&nbsp\;1952 book <em>How To Succeed In Business Without Really Trying</em>. The story concerns young\, ambitious J. Pierrepont Finch\, and with the help of the book&nbsp\;<em>How to Succeed in Business Without Really Trying</em>\, rises from window washer to chairman of the board of the World Wide Wicket Company.</span><br />\n<span style="color:#222222">The musical\, starring Robert Morse and Rudy Vallee\, opened on Broadway in October 1961\, running for 1\,417 performances. The show won seven Tony Awards\, the New York Drama Critics Circle Award\, and the 1962 Pulitzer Prize for Drama</span><br />\n<span style="color:#222222">In 1967\, a film based on the musical&nbsp\;was released\, with Morse and Vallee recreating their stage roles.</span><br />\n<span style="color:#222222">A 1995 revival featured Matthew Broderick and Megan Mullally ran for 548 performances. In March of 2011\, A 50<sup>th</sup> &ndash\; anniversary Broadway revival featured Daniel Radcliffe and John Larroquette ran for 473 performances.&nbsp\;</span></span></span></p>\n
LOCATION:Central DeWitt Performing Arts Center 519 E 11th Street DeWitt\, IA 52742
UID:e.1774.3093
SEQUENCE:3
DTSTAMP:20260419T165947Z
URL:https://business.dewittiowa.org/events/details/how-to-succeed-in-business-without-really-trying-07-29-2017-3093
END:VEVENT

END:VCALENDAR
