BEGIN:VCALENDAR
VERSION:2.0
PRODID:-//ChamberMaster//Event Calendar 2.0//EN
METHOD:PUBLISH
X-PUBLISHED-TTL:P3D
REFRESH-INTERVAL:P3D
CALSCALE:GREGORIAN
BEGIN:VEVENT
DTSTART:20170810T000000Z
DTEND:20170810T010000Z
X-MICROSOFT-CDO-ALLDAYEVENT:FALSE
SUMMARY:'How to use a Computer' Class
DESCRIPTION:We will discuss the basics of a desktop computer\, how to navigate and find files\, and show you the fundamentals of web browsing. If you are more advanced but have questions to do with computers or the internet feel free to come to the class and ask your questions at the end. Class is only 30 minutes long with an additional 30 minutes for questions and showing examples. Admission is free.
X-ALT-DESC;FMTTYPE=text/html:We will discuss the basics of a desktop computer\, how to navigate and find files\, and show you the fundamentals of web browsing. If you are more advanced but have questions to do with computers or the internet feel free to come to the class and ask your questions at the end. Class is only 30 minutes long with an additional 30 minutes for questions and showing examples. Admission is free.
LOCATION:TEC Center Makerspace Behind the DeWitt Library 911 5th Ave
UID:e.1774.3202
SEQUENCE:3
DTSTAMP:20260419T133315Z
URL:https://business.dewittiowa.org/events/details/how-to-use-a-computer-class-3202
END:VEVENT

END:VCALENDAR
