BEGIN:VCALENDAR
VERSION:2.0
PRODID:-//ChamberMaster//Event Calendar 2.0//EN
METHOD:PUBLISH
X-PUBLISHED-TTL:P3D
REFRESH-INTERVAL:P3D
CALSCALE:GREGORIAN
BEGIN:VEVENT
DTSTART:20170813T190000Z
DTEND:20170813T210000Z
X-MICROSOFT-CDO-ALLDAYEVENT:FALSE
SUMMARY:Ice Cream Social
DESCRIPTION:175th Anniversary Open House and Ice Cream Social. Come tour our gardens and facilities and enjoy a FREE ice cream sundae.
X-ALT-DESC;FMTTYPE=text/html:175th Anniversary Open House and Ice Cream Social. Come tour our gardens and facilities and enjoy a FREE ice cream sundae.
LOCATION:First Congregational United Church of Church 520 E. 11th St.\, DeWitt
UID:e.1774.3201
SEQUENCE:3
DTSTAMP:20260419T133748Z
URL:https://business.dewittiowa.org/events/details/ice-cream-social-3201
END:VEVENT

END:VCALENDAR
