BEGIN:VCALENDAR
VERSION:2.0
PRODID:-//ChamberMaster//Event Calendar 2.0//EN
METHOD:PUBLISH
X-PUBLISHED-TTL:P3D
REFRESH-INTERVAL:P3D
CALSCALE:GREGORIAN
BEGIN:VEVENT
DTSTART:20140812T220000Z
DTEND:20140812T230000Z
X-MICROSOFT-CDO-ALLDAYEVENT:FALSE
SUMMARY:Identity Theft Seminar
DESCRIPTION:Thrivent Financial wants you to learn how to protect yourself from Identity Theft. Bring your sensitive documents for FREE shredding provided by North Cedar Recycling\, Stanwood.
X-ALT-DESC;FMTTYPE=text/html:Thrivent Financial wants you to learn how to protect yourself from Identity Theft. Bring your sensitive documents for FREE shredding provided by North Cedar Recycling\, Stanwood.
LOCATION:DeWitt Community Center 512 10th St. DeWitt
UID:e.1774.116
SEQUENCE:3
DTSTAMP:20260422T010845Z
URL:https://business.dewittiowa.org/events/details/identity-theft-seminar-08-12-2014-116
END:VEVENT

END:VCALENDAR
