BEGIN:VCALENDAR
VERSION:2.0
PRODID:-//ChamberMaster//Event Calendar 2.0//EN
METHOD:PUBLISH
X-PUBLISHED-TTL:P3D
REFRESH-INTERVAL:P3D
CALSCALE:GREGORIAN
BEGIN:VEVENT
DTSTART:20141005T210000Z
DTEND:20141006T000000Z
X-MICROSOFT-CDO-ALLDAYEVENT:FALSE
SUMMARY:Immanuel Fall Turkey Supper
DESCRIPTION:A home-style turkey supper with all the trimmings will be served.
X-ALT-DESC;FMTTYPE=text/html:A home-style turkey supper with all the trimmings will be served.
LOCATION:Immanuel Lutheran Church Grand Mound\, Iowa
UID:e.1774.195
SEQUENCE:3
DTSTAMP:20260421T203708Z
URL:https://business.dewittiowa.org/events/details/immanuel-fall-turkey-supper-10-05-2014-195
END:VEVENT

END:VCALENDAR
