BEGIN:VCALENDAR
VERSION:2.0
PRODID:-//ChamberMaster//Event Calendar 2.0//EN
METHOD:PUBLISH
X-PUBLISHED-TTL:P3D
REFRESH-INTERVAL:P3D
CALSCALE:GREGORIAN
BEGIN:VEVENT
DTSTART;VALUE=DATE:20170619
DTEND;VALUE=DATE:20170623
TRANSP:TRANSPARENT
X-MICROSOFT-CDO-ALLDAYEVENT:TRUE
SUMMARY:Inspiration Point Day Camp @ Emmaus Road Church
DESCRIPTION:Day Camp\n\n4 year olds through students entering 6th grade
X-ALT-DESC;FMTTYPE=text/html:Day Camp<br />\n4 year olds through students entering 6th grade
LOCATION:Emmaus Road Church 1811 Elmwood Road DeWitt\, IA 52742
UID:e.1774.1918
SEQUENCE:3
DTSTAMP:20260419T184242Z
URL:https://business.dewittiowa.org/events/details/inspiration-point-day-camp-emmaus-road-church-1918
END:VEVENT

END:VCALENDAR
