BEGIN:VCALENDAR
VERSION:2.0
PRODID:-//ChamberMaster//Event Calendar 2.0//EN
METHOD:PUBLISH
X-PUBLISHED-TTL:P3D
REFRESH-INTERVAL:P3D
CALSCALE:GREGORIAN
BEGIN:VEVENT
DTSTART:20161023T220000Z
DTEND:20161024T010000Z
X-MICROSOFT-CDO-ALLDAYEVENT:FALSE
SUMMARY:Interactive Murder Mystery Dinner Theater
DESCRIPTION:Interactive Murder Mystery Dinner Theater\n\nSlay it Again\, Sam.\n\n"Here's looking at murder\, kid."\n\nWho can be trusted at Rick's Cafe?\n\nNo one\, if they're all out to steal the Maltese Chicken.
X-ALT-DESC;FMTTYPE=text/html:Interactive Murder Mystery Dinner Theater<br />\nSlay it Again\, Sam.<br />\n&quot\;Here&#39\;s looking at murder\, kid.&quot\;<br />\nWho can be trusted at Rick&#39\;s Cafe?<br />\nNo one\, if they&#39\;re all out to steal the Maltese Chicken.<br />\n&nbsp\;<br />\n&nbsp\;
LOCATION:TYCOGA Vineyard & WInery 2585 195th Street Dewitt\, IA 52742
UID:e.1774.1598
SEQUENCE:3
DTSTAMP:20260420T060659Z
URL:https://business.dewittiowa.org/events/details/interactive-murder-mystery-dinner-theater-1598
END:VEVENT

END:VCALENDAR
