BEGIN:VCALENDAR
VERSION:2.0
PRODID:-//ChamberMaster//Event Calendar 2.0//EN
METHOD:PUBLISH
X-PUBLISHED-TTL:P3D
REFRESH-INTERVAL:P3D
CALSCALE:GREGORIAN
BEGIN:VEVENT
DTSTART:20171012T000000Z
DTEND:20171012T010000Z
X-MICROSOFT-CDO-ALLDAYEVENT:FALSE
SUMMARY:Intro to 3-D Printing
DESCRIPTION:Have you heard of 3-D Printing? Join us for an introduction to 3-D printing\, types of 3-D printers\, and how to get started! We will also talk about designing your own 3-D File! At the end of the class we will be printing an item on the printer at the TEC Center!
X-ALT-DESC;FMTTYPE=text/html:Have you heard of 3-D Printing? Join us for an introduction to 3-D printing\, types of 3-D printers\, and how to get started! We will also talk about designing your own 3-D File! At the end of the class we will be printing an item on the printer at the TEC Center!
LOCATION:911 5th Ave\, DeWitt\, IA 52742 Right behind the DeWitt Library
UID:e.1774.6539
SEQUENCE:3
DTSTAMP:20260419T120658Z
URL:https://business.dewittiowa.org/events/details/intro-to-3-d-printing-6539
END:VEVENT

END:VCALENDAR
