BEGIN:VCALENDAR
VERSION:2.0
PRODID:-//ChamberMaster//Event Calendar 2.0//EN
METHOD:PUBLISH
X-PUBLISHED-TTL:P3D
REFRESH-INTERVAL:P3D
CALSCALE:GREGORIAN
BEGIN:VEVENT
DTSTART:20170824T000000Z
DTEND:20170824T010000Z
X-MICROSOFT-CDO-ALLDAYEVENT:FALSE
SUMMARY:Introduction to 'Making'
DESCRIPTION:Tools are getting cheaper\, electronics are getting smaller\, and the possibilities endless. Come learn about what people are making across the country with the new devices and tools now available. Some of the tools we have on hand at the makerspace\, and others that we could purchase if there is enough interest. We live in an age when 'what' we can do is more limited by peoples creativity\, than by their access to tools and information on 'how' to do it. We can help point you in the right direction if you have an idea for something you want to build.
X-ALT-DESC;FMTTYPE=text/html:Tools are getting cheaper\, electronics are getting smaller\, and the possibilities endless. Come learn about what people are making across the country with the new devices and tools now available. Some of the tools we have on hand at the makerspace\, and others that we could purchase if there is enough interest. We live in an age when &#39\;what&#39\; we can do is more limited by peoples creativity\, than by their access to tools and information on &#39\;how&#39\; to do it. We can help point you in the right direction if you have an idea for something you want to build.
LOCATION:TEC Center Makerspace 911 5th Ave Right Behind the DeWitt Library
UID:e.1774.3209
SEQUENCE:3
DTSTAMP:20260419T133413Z
URL:https://business.dewittiowa.org/events/details/introduction-to-making-3209
END:VEVENT

END:VCALENDAR
