BEGIN:VCALENDAR
VERSION:2.0
PRODID:-//ChamberMaster//Event Calendar 2.0//EN
METHOD:PUBLISH
X-PUBLISHED-TTL:P3D
REFRESH-INTERVAL:P3D
CALSCALE:GREGORIAN
BEGIN:VEVENT
DTSTART:20170927T210000Z
DTEND:20170928T000000Z
X-MICROSOFT-CDO-ALLDAYEVENT:FALSE
SUMMARY:Investment Open House @ DeWitt Bank & Trust
DESCRIPTION:Join us in celebrating our Cetera Advisor Networks 25th Anniversary! You're invited to sip and celebrate as you enjoy appetizers and complementary wine and beer from 4:00-7:00 P.M. in the Investment Office. \n\n\n\nMarty Murrell & Rachel Neilson have more than 25 years of combined experience at Dewitt Bank & Trust Co\, and are looking forward to continuing to help families achieve financial well-being at every stage of their lives\, whether it be investments or planning for the future.\n\n\n\nSECURITIES AND INVESTMENT ADVISORY SERVICES ARE OFFERED THROUGH CETERA ADVISOR NETWORKS LLC\, A REGISTERED BROKER-DEALER\, MEMBER FINRA/SIPC. THIS FINANCIAL INSTITUTION IS NOT AFFILIATED WITH CETERA ADVISOR NETWORKS LLC. INVESTMENT PRODUCTS ARE: * NOT FDIC INSURED *MAY LOSE VALUE *NOT FINANCIAL INSTITUTION GUARANTEED * NOT A DEPOSIT * NOT INSURED BY ANY FEDERAL GOVERNMENT AGENCY.
X-ALT-DESC;FMTTYPE=text/html:<p>Join us in celebrating our Cetera Advisor Networks 25th Anniversary! You&#39\;re invited to sip and celebrate as you enjoy appetizers and complementary wine and beer from 4:00-7:00 P.M. in the Investment Office.&nbsp\;<br />\n<br />\nMarty Murrell &amp\; Rachel Neilson have more than 25 years of combined experience at Dewitt Bank &amp\; Trust Co\, and are looking forward to continuing to help families achieve financial well-being at every stage of their lives\, whether it be investments or planning for the future.</p>\n\n<p><br />\n<span style="font-size:11px">SECURITIES AND INVESTMENT ADVISORY SERVICES ARE OFFERED THROUGH CETERA ADVISOR NETWORKS LLC\, A REGISTERED BROKER-DEALER\, MEMBER FINRA/SIPC. THIS FINANCIAL INSTITUTION IS NOT AFFILIATED WITH CETERA ADVISOR NETWORKS LLC. INVESTMENT PRODUCTS ARE: * NOT FDIC INSURED *MAY LOSE VALUE *NOT FINANCIAL INSTITUTION GUARANTEED * NOT A DEPOSIT * NOT INSURED BY ANY FEDERAL GOVERNMENT AGENCY.</span></p>\n
LOCATION:815 6th Avenue DeWitt\, IA 52742 Enter through the Investment Office door.
UID:e.1774.6294
SEQUENCE:3
DTSTAMP:20260419T135453Z
URL:https://business.dewittiowa.org/events/details/investment-open-house-dewitt-bank-trust-09-27-2017-6294
END:VEVENT

END:VCALENDAR
