BEGIN:VCALENDAR
VERSION:2.0
PRODID:-//ChamberMaster//Event Calendar 2.0//EN
METHOD:PUBLISH
X-PUBLISHED-TTL:P3D
REFRESH-INTERVAL:P3D
CALSCALE:GREGORIAN
BEGIN:VEVENT
DTSTART:20150712T183000Z
DTEND:20150712T200000Z
X-MICROSOFT-CDO-ALLDAYEVENT:FALSE
SUMMARY:Iowa's Own Monuments Man: George Stout
DESCRIPTION:Nancy Trask\, Director of the Winterset Public Library\, will present historical slides about the Monuments Men\, especially introducing George Stout\, who was born and raised in Winterset. George Clooney's character in "The Monuments Men" movie was based on George Stout.
X-ALT-DESC;FMTTYPE=text/html:Nancy Trask\, Director of the Winterset Public Library\, will present historical slides about the Monuments Men\, especially introducing George Stout\, who was born and raised in Winterset. George Clooney&#39\;s character in &quot\;The Monuments Men&quot\; movie was based on George Stout.
LOCATION:Frances Banta Waggoner Community Library Meeting Room 505 10th St.\, DeWitt
UID:e.1774.910
SEQUENCE:3
DTSTAMP:20260421T061732Z
URL:https://business.dewittiowa.org/events/details/iowa-s-own-monuments-man-george-stout-07-12-2015-910
END:VEVENT

END:VCALENDAR
