BEGIN:VCALENDAR
VERSION:2.0
PRODID:-//ChamberMaster//Event Calendar 2.0//EN
METHOD:PUBLISH
X-PUBLISHED-TTL:P3D
REFRESH-INTERVAL:P3D
CALSCALE:GREGORIAN
BEGIN:VEVENT
DTSTART:20260519T230000Z
DTEND:20260520T000000Z
X-MICROSOFT-CDO-ALLDAYEVENT:FALSE
SUMMARY:Iowa Steel Band
DESCRIPTION:Join us for our first visiting artist of 2026! Iowa Steel Band from the University of Iowa will be at DCL performing music from Bach to bossa nova\, the group specializes in music of the Caribbean\, as well as folk music of the world\, popular American music and jazz! A wide range of music for you to enjoy in DeWitt!
X-ALT-DESC;FMTTYPE=text/html:Join us for our first visiting artist of 2026! Iowa Steel Band from the University of Iowa will be at DCL performing music from Bach to bossa nova\, the group specializes in music of the Caribbean\, as well as folk music of the world\, popular American music and jazz! A wide range of music for you to enjoy in DeWitt!
LOCATION:DeWitt Community Library 917 5th Ave
UID:e.1774.44809
SEQUENCE:3
DTSTAMP:20260424T183609Z
URL:https://business.dewittiowa.org/events/details/iowa-steel-band-44809
END:VEVENT

END:VCALENDAR
