BEGIN:VCALENDAR
VERSION:2.0
PRODID:-//ChamberMaster//Event Calendar 2.0//EN
METHOD:PUBLISH
X-PUBLISHED-TTL:P3D
REFRESH-INTERVAL:P3D
CALSCALE:GREGORIAN
BEGIN:VEVENT
DTSTART:20170801T230000Z
DTEND:20170802T020000Z
X-MICROSOFT-CDO-ALLDAYEVENT:FALSE
SUMMARY:Iowa Water Quality Summit
DESCRIPTION:Discussions and displays about water quality in our area. Hosted by Senator Rita Hart
X-ALT-DESC;FMTTYPE=text/html:Discussions and displays about water quality in our area. Hosted by Senator Rita Hart
LOCATION:Central DeWitt High School
UID:e.1774.3186
SEQUENCE:3
DTSTAMP:20260419T134742Z
URL:https://business.dewittiowa.org/events/details/iowa-water-quality-summit-3186
END:VEVENT

END:VCALENDAR
