BEGIN:VCALENDAR
VERSION:2.0
PRODID:-//ChamberMaster//Event Calendar 2.0//EN
METHOD:PUBLISH
X-PUBLISHED-TTL:P3D
REFRESH-INTERVAL:P3D
CALSCALE:GREGORIAN
BEGIN:VEVENT
DTSTART;VALUE=DATE:20170212
DTEND;VALUE=DATE:20170213
TRANSP:TRANSPARENT
X-MICROSOFT-CDO-ALLDAYEVENT:TRUE
SUMMARY:It's My Party & I'll Die if I Want too-- Murder Mystery Interactive Dinner Theater
DESCRIPTION:Teen Love Gone Horribly Wrong! Figure out who could have done it with this great idea for a little Valentine's Day fun!!
X-ALT-DESC;FMTTYPE=text/html:Teen Love Gone Horribly Wrong! Figure out who could have done it with this great idea for a little Valentine&#39\;s Day fun!!
LOCATION:TYCOGA Vineyard & Winery 2585 195th Street DeWitt\, IA 52742
UID:e.1774.1756
SEQUENCE:3
DTSTAMP:20260420T014152Z
URL:https://business.dewittiowa.org/events/details/it-s-my-party-i-ll-die-if-i-want-too-murder-mystery-interactive-dinner-theater-1756
END:VEVENT

END:VCALENDAR
