BEGIN:VCALENDAR
VERSION:2.0
PRODID:-//ChamberMaster//Event Calendar 2.0//EN
METHOD:PUBLISH
X-PUBLISHED-TTL:P3D
REFRESH-INTERVAL:P3D
CALSCALE:GREGORIAN
BEGIN:VEVENT
DTSTART:20160305T173000Z
DTEND:20160306T000000Z
X-MICROSOFT-CDO-ALLDAYEVENT:FALSE
SUMMARY:JA Bowl-A-Thon
DESCRIPTION:Junior Achievement Bowl-A-Thon is coming to DeWitt!\n\n\n\nVisit our website to find out more information and to register!
X-ALT-DESC;FMTTYPE=text/html:Junior Achievement Bowl-A-Thon is coming to DeWitt!<br />\n<br />\nVisit our website to find out more information and to register!
LOCATION:DeWitt Lanes 309 11th St. DeWitt
UID:e.1774.1157
SEQUENCE:3
DTSTAMP:20260420T170851Z
URL:https://business.dewittiowa.org/events/details/ja-bowl-a-thon-03-05-2016-1157
END:VEVENT

END:VCALENDAR
