BEGIN:VCALENDAR
VERSION:2.0
PRODID:-//ChamberMaster//Event Calendar 2.0//EN
METHOD:PUBLISH
X-PUBLISHED-TTL:P3D
REFRESH-INTERVAL:P3D
CALSCALE:GREGORIAN
BEGIN:VEVENT
DTSTART:20150616T120000Z
DTEND:20150616T210000Z
X-MICROSOFT-CDO-ALLDAYEVENT:FALSE
SUMMARY:Jewelry Is Fun\, Everything $5.99 Sale
DESCRIPTION:Jewelry and Accessory Sale. Open to the public! Proceeds to benefit DeWitt Community Hospital Foundation.
X-ALT-DESC;FMTTYPE=text/html:Jewelry and Accessory Sale. Open to the public! Proceeds to benefit DeWitt Community Hospital Foundation.
LOCATION:Genesis Medical Center - DeWitt located in the hallway off of the Main/ER entrance
UID:e.1774.487
SEQUENCE:3
DTSTAMP:20260421T094604Z
URL:https://business.dewittiowa.org/events/details/jewelry-is-fun-everything-5-99-sale-06-16-2015-487
END:VEVENT

END:VCALENDAR
