BEGIN:VCALENDAR
VERSION:2.0
PRODID:-//ChamberMaster//Event Calendar 2.0//EN
METHOD:PUBLISH
X-PUBLISHED-TTL:P3D
REFRESH-INTERVAL:P3D
CALSCALE:GREGORIAN
BEGIN:VEVENT
DTSTART:20160917T150000Z
DTEND:20160917T200000Z
X-MICROSOFT-CDO-ALLDAYEVENT:FALSE
SUMMARY:John Bloom Arts Festival
DESCRIPTION:Local artists and crafters have their creations for sale. There is a make-and-take art table for children\, live musical entertainment\, and food available on site. The event is sponsored by the DeWitt Area Fine Arts Foundation.
X-ALT-DESC;FMTTYPE=text/html:Local artists and crafters have their creations for sale. There is a make-and-take art table for children\, live musical entertainment\, and food available on site. The event is sponsored by the DeWitt Area Fine Arts Foundation.
LOCATION:Lincoln Park\, DeWitt
UID:e.1774.1078
SEQUENCE:3
DTSTAMP:20260420T074058Z
URL:https://business.dewittiowa.org/events/details/john-bloom-arts-festival-09-17-2016-1078
END:VEVENT

END:VCALENDAR
