BEGIN:VCALENDAR
VERSION:2.0
PRODID:-//ChamberMaster//Event Calendar 2.0//EN
METHOD:PUBLISH
X-PUBLISHED-TTL:P3D
REFRESH-INTERVAL:P3D
CALSCALE:GREGORIAN
BEGIN:VEVENT
DTSTART:20150919T150000Z
DTEND:20150919T200000Z
X-MICROSOFT-CDO-ALLDAYEVENT:FALSE
SUMMARY:John Bloom Arts Festival
DESCRIPTION:The event is sponsored by the DeWitt Area Fine Arts Foundation. Local artists and crafters have a variety of items for sale. Food is available. There is a musical entertainment and a make-and-take craft table for children.
X-ALT-DESC;FMTTYPE=text/html:The event is sponsored by the DeWitt Area Fine Arts Foundation. Local artists and crafters have a variety of items for sale. Food is available. There is a musical entertainment and a make-and-take craft table for children.
LOCATION:Lincoln Park\, DeWitt
UID:e.1774.921
SEQUENCE:3
DTSTAMP:20260421T043421Z
URL:https://business.dewittiowa.org/events/details/john-bloom-arts-festival-09-19-2015-921
END:VEVENT

END:VCALENDAR
